BEGIN:VCALENDAR
VERSION:2.0
PRODID:-//WNC Nonprofit Pathways - ECPv6.15.20//NONSGML v1.0//EN
CALSCALE:GREGORIAN
METHOD:PUBLISH
X-WR-CALNAME:WNC Nonprofit Pathways
X-ORIGINAL-URL:https://nonprofitpathways.org
X-WR-CALDESC:Events for WNC Nonprofit Pathways
REFRESH-INTERVAL;VALUE=DURATION:PT1H
X-Robots-Tag:noindex
X-PUBLISHED-TTL:PT1H
BEGIN:VTIMEZONE
TZID:UTC
BEGIN:STANDARD
TZOFFSETFROM:+0000
TZOFFSETTO:+0000
TZNAME:UTC
DTSTART:20250101T000000
END:STANDARD
END:VTIMEZONE
BEGIN:VEVENT
DTSTART;TZID=UTC:20260304T093000
DTEND;TZID=UTC:20260304T123000
DTSTAMP:20260420T155429
CREATED:20251216T211808Z
LAST-MODIFIED:20251216T211818Z
UID:17648-1772616600-1772627400@nonprofitpathways.org
SUMMARY:Nonprofit Fundamentals: Fundraising Essentials 201 (March 4 & 5 - two-part series
DESCRIPTION:*this is a two-part workshop held online via Zoom\, three hours each day (total of 6 hours) to complete class\, March 4 & 5; 9:30am – 12:30 pm. Click HERE to register. \nDo you find yourself pulled in multiple directions to raise funds to support your organization’s work? In this 200-level workshop – Fundraising Essentials 201: Expanding Your Impact\, you will learn how to create reliable systems that result in increased giving. The key to achieving your organization’s next level of success is expanding your donor and prospect pipeline from acquisition to transformational giving. In this interactive workshop\, you will cover the science and best practices for effective major donor fundraising\, mid-level donors and upgrades\, and strategic donor segmentation. We will also explore new messaging concepts that engage funders in need of\, and impacted by\, your organization’s work. Get ready to develop practical strategies for implementation that strengthen your fundraising plan\, share ideas with colleagues\, and tailor several systems to apply in your own work. This class is taught by Angela Kemper\, MA\, CFRE. \nCost per online class is $50 for both days. Classes are designed to be affordable and are free for organizations with a budget under $50K\, contact us for details. Pathways is committed to making these courses accessible to all nonprofit leaders in WNC. If you would like to attend\, but the cost is a barrier\, please don’t hesitate to reach out to us at contact@nonprofitpathways.org.  Attendance is mandatory for both days to attend. *we limit a maximum of 3 registrants per organization for each class. \nPlease let us know if you are in need of special accommodations for any of our classes by emailing us at contact@nonprofitpathways.org. \nThe Nonprofit Fundamentals Certificate Program courses are offered to nonprofit organizations based in the 18 counties of western North Carolina. Please do not register for classes if you do not meet this criteria. Thank you.
URL:https://nonprofitpathways.org/event/nonprofit-fundamentals-fundraising-essentials-201-march-4-5-two-part-series/
END:VEVENT
BEGIN:VEVENT
DTSTART;TZID=UTC:20260305T093000
DTEND;TZID=UTC:20260305T123000
DTSTAMP:20260420T155429
CREATED:20251216T212005Z
LAST-MODIFIED:20251216T212005Z
UID:17649-1772703000-1772713800@nonprofitpathways.org
SUMMARY:Nonprofit Fundamentals: Fundraising Essentials 201 (March 4 & 5 - two-part series)
DESCRIPTION:*this is a two-part workshop held online via Zoom\, three hours each day (total of 6 hours) to complete class\, March 4 & 5; 9:30am – 12:30 pm. Click HERE to register. \nDo you find yourself pulled in multiple directions to raise funds to support your organization’s work? In this 200-level workshop – Fundraising Essentials 201: Expanding Your Impact\, you will learn how to create reliable systems that result in increased giving. The key to achieving your organization’s next level of success is expanding your donor and prospect pipeline from acquisition to transformational giving. In this interactive workshop\, you will cover the science and best practices for effective major donor fundraising\, mid-level donors and upgrades\, and strategic donor segmentation. We will also explore new messaging concepts that engage funders in need of\, and impacted by\, your organization’s work. Get ready to develop practical strategies for implementation that strengthen your fundraising plan\, share ideas with colleagues\, and tailor several systems to apply in your own work. This class is taught by Angela Kemper\, MA\, CFRE. \nCost per online class is $50 for both days. Classes are designed to be affordable and are free for organizations with a budget under $50K\, contact us for details. Pathways is committed to making these courses accessible to all nonprofit leaders in WNC. If you would like to attend\, but the cost is a barrier\, please don’t hesitate to reach out to us at contact@nonprofitpathways.org.  Attendance is mandatory for both days to attend. *we limit a maximum of 3 registrants per organization for each class. \nPlease let us know if you are in need of special accommodations for any of our classes by emailing us at contact@nonprofitpathways.org. \nThe Nonprofit Fundamentals Certificate Program courses are offered to nonprofit organizations based in the 18 counties of western North Carolina. Please do not register for classes if you do not meet this criteria. Thank you.
URL:https://nonprofitpathways.org/event/nonprofit-fundamentals-fundraising-essentials-201-march-4-5-two-part-series-2/
END:VEVENT
BEGIN:VEVENT
DTSTART;TZID=UTC:20260323T100000
DTEND;TZID=UTC:20260323T120000
DTSTAMP:20260420T155429
CREATED:20260217T170724Z
LAST-MODIFIED:20260223T173457Z
UID:17699-1774260000-1774267200@nonprofitpathways.org
SUMMARY:Public Policy Conversation - March 23rd
DESCRIPTION:Hosted in collaboration with WNC Nonprofit Pathways and the North Carolina Center for Nonprofits\, the Nonprofit Policy Conversation will bring together nonprofit leaders to discuss public policy issues that are important to WNC nonprofits and the people and communities they serve. REGISTER HERE.  (Registration on NC Center website – $25 for members/$35 All others) \nDuring this in-person gathering\, David Heinen\, Vice President for Public Policy and Advocacy at the NC Center for Nonprofits will share a briefing on: \n\nFederal grant disruptions in 2025 and early 2026\nPotential changes to rules about nonpartisan election-related activities by 501(c)(3)’s\nA discussion about whether nonprofit diversity\, equity\, and inclusion programs and policies are now “illegal discrimination”\nImplications of the One Big Beautiful Bill Act for nonprofits and the people they serve\nAn update on the state budget process\nA preview of major state policy issues affecting nonprofits in 2026.\n\nAttendees will have opportunities to ask questions and share their insights about policy and legislative priorities and issues.
URL:https://nonprofitpathways.org/event/public-policy-conversation-save-the-date/
LOCATION:AB Tech – Ferguson Auditorium\, 19 Tech Drive\, Asheville\, NC\, 28801\, United States
END:VEVENT
BEGIN:VEVENT
DTSTART;TZID=UTC:20260324T083000
DTEND;TZID=UTC:20260324T093000
DTSTAMP:20260420T155429
CREATED:20251204T195929Z
LAST-MODIFIED:20260225T201303Z
UID:17637-1774341000-1774344600@nonprofitpathways.org
SUMMARY:Nonprofit Virtual Coffee Hour - March 24\, 2026
DESCRIPTION:Join us for our Nonprofit Virtual Coffee Hour at 8:30 am for a good morning chat to hear the latest news in what’s going on in Western North Carolina nonprofits. Attendance is free\, but we ask that you please register HERE. A link to log into the meeting will be emailed once you register. \nThere’ll be time to connect with your colleagues\, exchange ideas\, and discuss the opportunities and challenges we’re facing in the nonprofit community. We’ll also share information on Pathways’ upcoming workshops and events! \nIf you have any questions\, please feel free to email us at contact@nonprofitpathways.org.
URL:https://nonprofitpathways.org/event/nonprofit-virtual-coffee-hour-march-24-2026/
END:VEVENT
END:VCALENDAR