BEGIN:VCALENDAR
VERSION:2.0
PRODID:-//WNC Nonprofit Pathways - ECPv6.15.20//NONSGML v1.0//EN
CALSCALE:GREGORIAN
METHOD:PUBLISH
X-WR-CALNAME:WNC Nonprofit Pathways
X-ORIGINAL-URL:https://nonprofitpathways.org
X-WR-CALDESC:Events for WNC Nonprofit Pathways
REFRESH-INTERVAL;VALUE=DURATION:PT1H
X-Robots-Tag:noindex
X-PUBLISHED-TTL:PT1H
BEGIN:VTIMEZONE
TZID:UTC
BEGIN:STANDARD
TZOFFSETFROM:+0000
TZOFFSETTO:+0000
TZNAME:UTC
DTSTART:20250101T000000
END:STANDARD
END:VTIMEZONE
BEGIN:VEVENT
DTSTART;TZID=UTC:20260211T093000
DTEND;TZID=UTC:20260211T123000
DTSTAMP:20260424T090913
CREATED:20251216T211737Z
LAST-MODIFIED:20251216T211737Z
UID:17646-1770802200-1770813000@nonprofitpathways.org
SUMMARY:Nonprofit Fundamentals: Grant Writing 201 (Feb. 11 & 12 - two-part series)
DESCRIPTION:*this is a two-part workshop held online via Zoom\, three hours each day (total of 6 hours) to complete class\, February 11 & 12; 9:30am – 12:30 pm. Click HERE to register. \nIn the Grant Writing 201: Strategies for Successful Grant Acquisition class\, you will be building on the fundamentals covered in Grant Writing 101. Grant Writing 201 takes a deeper dive into grant strategy and demystifies what funders look for in strong proposals. Through interactive sessions and real-time writing exercises\, this course gives participants clear insight into how to navigate diverse grant opportunities and communicate their work with clarity and purpose. By the end of the course\, participants will feel more confident in how to frame their work in ways that pique funder interest and position their organizations for successful\, impact-driven proposals. \nCost per online class is $50 for both days. Classes are designed to be affordable and are free for organizations with a budget under $50K\, contact us for details. Pathways is committed to making these courses accessible to all nonprofit leaders in WNC. If you would like to attend\, but the cost is a barrier\, please don’t hesitate to reach out to us at contact@nonprofitpathways.org.  Attendance is mandatory for both days to attend. *we limit a maximum of 3 registrants per organization for each class. \nPlease let us know if you are in need of special accommodations for any of our classes by emailing us at contact@nonprofitpathways.org. \nThe Nonprofit Fundamentals Certificate Program courses are offered to nonprofit organizations based in the 18 counties of western North Carolina. Please do not register for classes if you do not meet this criteria. Thank you.
URL:https://nonprofitpathways.org/event/nonprofit-fundamentals-grant-writing-201-feb-11-12-two-part-series/
END:VEVENT
BEGIN:VEVENT
DTSTART;TZID=UTC:20260212T093000
DTEND;TZID=UTC:20260212T123000
DTSTAMP:20260424T090913
CREATED:20251216T211753Z
LAST-MODIFIED:20251216T211753Z
UID:17647-1770888600-1770899400@nonprofitpathways.org
SUMMARY:Nonprofit Fundamentals: Grant Writing 201 (Feb. 11 & 12 - two-part series)
DESCRIPTION:*this is a two-part workshop held online via Zoom\, three hours each day (total of 6 hours) to complete class\, February 11 & 12; 9:30am – 12:30 pm. Click HERE to register. \nIn the Grant Writing 201: Strategies for Successful Grant Acquisition class\, you will be building on the fundamentals covered in Grant Writing 101. Grant Writing 201 takes a deeper dive into grant strategy and demystifies what funders look for in strong proposals. Through interactive sessions and real-time writing exercises\, this course gives participants clear insight into how to navigate diverse grant opportunities and communicate their work with clarity and purpose. By the end of the course\, participants will feel more confident in how to frame their work in ways that pique funder interest and position their organizations for successful\, impact-driven proposals. \nCost per online class is $50 for both days. Classes are designed to be affordable and are free for organizations with a budget under $50K\, contact us for details. Pathways is committed to making these courses accessible to all nonprofit leaders in WNC. If you would like to attend\, but the cost is a barrier\, please don’t hesitate to reach out to us at contact@nonprofitpathways.org.  Attendance is mandatory for both days to attend. *we limit a maximum of 3 registrants per organization for each class. \nPlease let us know if you are in need of special accommodations for any of our classes by emailing us at contact@nonprofitpathways.org. \nThe Nonprofit Fundamentals Certificate Program courses are offered to nonprofit organizations based in the 18 counties of western North Carolina. Please do not register for classes if you do not meet this criteria. Thank you.
URL:https://nonprofitpathways.org/event/nonprofit-fundamentals-grant-writing-201-feb-11-12-two-part-series-2/
END:VEVENT
BEGIN:VEVENT
DTSTART;TZID=UTC:20260224T083000
DTEND;TZID=UTC:20260224T093000
DTSTAMP:20260424T090913
CREATED:20251204T195751Z
LAST-MODIFIED:20251222T162748Z
UID:17636-1771921800-1771925400@nonprofitpathways.org
SUMMARY:Nonprofit Virtual Coffee Hour - February 24\, 2026
DESCRIPTION:Join us for our monthly Nonprofit Virtual Coffee Hour at 8:30 am for a special topic of the month. We’ll also have time at the end to chat and share what’s going on with your nonprofit and the region. \nAttendance is free\, but we ask that you please let us know you will be attending\, register HERE. A link to log into the meeting will be emailed once you register. \nIf you have any questions\, please feel free to email us at contact@nonprofitpathways.org.
URL:https://nonprofitpathways.org/event/nonprofit-virtual-coffee-hour-february-3/
END:VEVENT
END:VCALENDAR