BEGIN:VCALENDAR
VERSION:2.0
PRODID:-//WNC Nonprofit Pathways - ECPv6.15.20//NONSGML v1.0//EN
CALSCALE:GREGORIAN
METHOD:PUBLISH
X-ORIGINAL-URL:https://nonprofitpathways.org
X-WR-CALDESC:Events for WNC Nonprofit Pathways
REFRESH-INTERVAL;VALUE=DURATION:PT1H
X-Robots-Tag:noindex
X-PUBLISHED-TTL:PT1H
BEGIN:VTIMEZONE
TZID:UTC
BEGIN:STANDARD
TZOFFSETFROM:+0000
TZOFFSETTO:+0000
TZNAME:UTC
DTSTART:20250101T000000
END:STANDARD
END:VTIMEZONE
BEGIN:VEVENT
DTSTART;TZID=UTC:20260507T093000
DTEND;TZID=UTC:20260507T123000
DTSTAMP:20260420T171805
CREATED:20251216T211826Z
LAST-MODIFIED:20251216T211826Z
UID:17653-1778146200-1778157000@nonprofitpathways.org
SUMMARY:Nonprofit Fundamentals: Designing Programs with Outcomes in Mind (May 6 & 7 - two-part series)
DESCRIPTION:*this is a two-part workshop held online via Zoom\, three hours each day (total of 6 hours) to complete class\, May 6 & 7; 9:30am – 12:30 pm. Click HERE to register. \nUsing the principles of co-design\, we’ll learn how to partner with the individuals whom programs are designed to serve by mapping out the most important parts of their experiences and the desired results they hope to achieve.  We’ll cover how to use participatory techniques to serve as a pathway for involving and centering participant experiences\, not only in the design of programs\, but also when identifying the outcomes which matter most to program participants.  In this course\, we’ll discuss how to: \n\nMap and design a program with rather than for the people whom the program is meant to serve\nIdentify the ABCs of change that program participants may experience\nFrame meaningful and measurable outcomes\nContinuously gather actionable feedback for your organization\, using standard and non-traditional methods\n\nPlease note: This course is highly interactive and less lecture based.  In addition to Zoom\, we’ll use breakout rooms and Google Slides for group activities and large group discussions. This course is taught by Lauren Rayburn.
URL:https://nonprofitpathways.org/event/nonprofit-fundamentals-designing-programs-with-outcomes-in-mind-may-6-7-two-part-series/
END:VEVENT
END:VCALENDAR