BEGIN:VCALENDAR
VERSION:2.0
PRODID:-//WNC Nonprofit Pathways - ECPv6.15.20//NONSGML v1.0//EN
CALSCALE:GREGORIAN
METHOD:PUBLISH
X-ORIGINAL-URL:https://nonprofitpathways.org
X-WR-CALDESC:Events for WNC Nonprofit Pathways
REFRESH-INTERVAL;VALUE=DURATION:PT1H
X-Robots-Tag:noindex
X-PUBLISHED-TTL:PT1H
BEGIN:VTIMEZONE
TZID:UTC
BEGIN:STANDARD
TZOFFSETFROM:+0000
TZOFFSETTO:+0000
TZNAME:UTC
DTSTART:20250101T000000
END:STANDARD
END:VTIMEZONE
BEGIN:VEVENT
DTSTART;TZID=UTC:20260324T083000
DTEND;TZID=UTC:20260324T093000
DTSTAMP:20260420T171851
CREATED:20251204T195929Z
LAST-MODIFIED:20260225T201303Z
UID:17637-1774341000-1774344600@nonprofitpathways.org
SUMMARY:Nonprofit Virtual Coffee Hour - March 24\, 2026
DESCRIPTION:Join us for our Nonprofit Virtual Coffee Hour at 8:30 am for a good morning chat to hear the latest news in what’s going on in Western North Carolina nonprofits. Attendance is free\, but we ask that you please register HERE. A link to log into the meeting will be emailed once you register. \nThere’ll be time to connect with your colleagues\, exchange ideas\, and discuss the opportunities and challenges we’re facing in the nonprofit community. We’ll also share information on Pathways’ upcoming workshops and events! \nIf you have any questions\, please feel free to email us at contact@nonprofitpathways.org.
URL:https://nonprofitpathways.org/event/nonprofit-virtual-coffee-hour-march-24-2026/
END:VEVENT
END:VCALENDAR